BEGIN:VCALENDAR
VERSION:2.0
PRODID:-//Malpas Village Hall - ECPv5.12.0//NONSGML v1.0//EN
CALSCALE:GREGORIAN
METHOD:PUBLISH
X-WR-CALNAME:Malpas Village Hall
X-ORIGINAL-URL:https://www.malpasvillagehall.com
X-WR-CALDESC:Events for Malpas Village Hall
REFRESH-INTERVAL;VALUE=DURATION:PT1H
X-Robots-Tag:noindex
X-PUBLISHED-TTL:PT1H
BEGIN:VTIMEZONE
TZID:Europe/London
BEGIN:DAYLIGHT
TZOFFSETFROM:+0000
TZOFFSETTO:+0100
TZNAME:BST
DTSTART:20250330T010000
END:DAYLIGHT
BEGIN:STANDARD
TZOFFSETFROM:+0100
TZOFFSETTO:+0000
TZNAME:GMT
DTSTART:20251026T010000
END:STANDARD
END:VTIMEZONE
BEGIN:VEVENT
DTSTART;TZID=Europe/London:20250621T140000
DTEND;TZID=Europe/London:20250621T163000
DTSTAMP:20260426T010449
CREATED:20250320T104023Z
LAST-MODIFIED:20250320T151454Z
UID:114545-1750514400-1750523400@www.malpasvillagehall.com
SUMMARY:MID SUMMER CREAM TEA - Join us at the hall for an afternoon of Cornish Cream Teas  2.00 pm to 4.30 pm
DESCRIPTION:Join us at the hall for an afternoon of Cornish Cream Teas
URL:https://www.malpasvillagehall.com/event/mid-summer-cream-tea-join-us-at-the-hall-for-an-afternoon-of-cornish-cream-teas-2-00-pm-to-4-00-pm/
LOCATION:Modern Hall\, Malpas Village Hall
ATTACH;FMTTYPE=image/jpeg:https://www.malpasvillagehall.com/wp-content/uploads/2025/03/Web-image-cream-tea-F01.jpg
END:VEVENT
END:VCALENDAR