BEGIN:VCALENDAR
VERSION:2.0
PRODID:-//Malpas Village Hall - ECPv5.12.0//NONSGML v1.0//EN
CALSCALE:GREGORIAN
METHOD:PUBLISH
X-WR-CALNAME:Malpas Village Hall
X-ORIGINAL-URL:https://www.malpasvillagehall.com
X-WR-CALDESC:Events for Malpas Village Hall
REFRESH-INTERVAL;VALUE=DURATION:PT1H
X-Robots-Tag:noindex
X-PUBLISHED-TTL:PT1H
BEGIN:VTIMEZONE
TZID:Europe/London
BEGIN:DAYLIGHT
TZOFFSETFROM:+0000
TZOFFSETTO:+0100
TZNAME:BST
DTSTART:20250330T010000
END:DAYLIGHT
BEGIN:STANDARD
TZOFFSETFROM:+0100
TZOFFSETTO:+0000
TZNAME:GMT
DTSTART:20251026T010000
END:STANDARD
END:VTIMEZONE
BEGIN:VEVENT
DTSTART;TZID=Europe/London:20250902T090000
DTEND;TZID=Europe/London:20250902T130000
DTSTAMP:20260425T205225
CREATED:20250808T112857Z
LAST-MODIFIED:20250902T115442Z
UID:129070-1756803600-1756818000@www.malpasvillagehall.com
SUMMARY:MATT CADLE - Modern Hall 4hr Private Booking
DESCRIPTION:Name: MATT CADLE\nEmail: mcadle@sail-force.com\nEvent Or Organisation Name: Sailforce Partnership Ltd\nEvent Type: workshop\nEvent Description: Workshop\nAttendance: 2-3 people\nConsumption Of Alcohol?: No\nIf YES\, Please Specify Whether Consuming (not Selling) Own Drinks Or Requiring Bar Facility From On-line Shop:\nCatering Facilities Required?: No\nLift Access?: Yes\nSpecial Requirements Insert Here:\n By Booking This Appointment\, I Agree To The Terms & Conditions:\nNeed to make changes to this event? \nHome
URL:https://www.malpasvillagehall.com/event/matt-cadle-modern-hall-4hr-private-booking-3/
CATEGORIES:Private Bookings
END:VEVENT
BEGIN:VEVENT
DTSTART;TZID=Europe/London:20250902T140000
DTEND;TZID=Europe/London:20250902T180000
DTSTAMP:20260425T205225
CREATED:20250808T112858Z
LAST-MODIFIED:20250902T163936Z
UID:129071-1756821600-1756836000@www.malpasvillagehall.com
SUMMARY:MATT CADLE - Modern Hall 4hr Private Booking
DESCRIPTION:Name: MATT CADLE\nEmail: mcadle@sail-force.com\nEvent Or Organisation Name: Sailforce Partnership Ltd\nEvent Type: workshop\nEvent Description: Workshop\nAttendance: 2-3 people\nConsumption Of Alcohol?: No\nIf YES\, Please Specify Whether Consuming (not Selling) Own Drinks Or Requiring Bar Facility From On-line Shop:\nCatering Facilities Required?: No\nLift Access?: Yes\nSpecial Requirements Insert Here:\n By Booking This Appointment\, I Agree To The Terms & Conditions:\nNeed to make changes to this event? \nHome
URL:https://www.malpasvillagehall.com/event/matt-cadle-modern-hall-4hr-private-booking-4/
CATEGORIES:Private Bookings
END:VEVENT
END:VCALENDAR