BEGIN:VCALENDAR
VERSION:2.0
PRODID:-//Malpas Village Hall - ECPv5.12.0//NONSGML v1.0//EN
CALSCALE:GREGORIAN
METHOD:PUBLISH
X-WR-CALNAME:Malpas Village Hall
X-ORIGINAL-URL:https://www.malpasvillagehall.com
X-WR-CALDESC:Events for Malpas Village Hall
REFRESH-INTERVAL;VALUE=DURATION:PT1H
X-Robots-Tag:noindex
X-PUBLISHED-TTL:PT1H
BEGIN:VTIMEZONE
TZID:Europe/London
BEGIN:DAYLIGHT
TZOFFSETFROM:+0000
TZOFFSETTO:+0100
TZNAME:BST
DTSTART:20250330T010000
END:DAYLIGHT
BEGIN:STANDARD
TZOFFSETFROM:+0100
TZOFFSETTO:+0000
TZNAME:GMT
DTSTART:20251026T010000
END:STANDARD
END:VTIMEZONE
BEGIN:VEVENT
DTSTART;TZID=Europe/London:20250906T090000
DTEND;TZID=Europe/London:20250906T130000
DTSTAMP:20260425T205319
CREATED:20250724T001213Z
LAST-MODIFIED:20250906T112659Z
UID:127477-1757149200-1757163600@www.malpasvillagehall.com
SUMMARY:Abigail Bassett - Modern Hall 4hr Party Booking Kitchen Access
DESCRIPTION:Name: Abigail Bassett\nEmail: abigailrmarsh@hotmail.com\nEvent Or Organisation Name: N/a\nEvent Type: Child’s birthday party\nEvent Description: Child’s birthday party\nAttendance: approx 18 children and 18 adults\nConsumption Of Alcohol?: No\nIf YES\, Please Specify Whether Consuming (not Selling) Own Drinks Or Requiring Bar Facility From On-line Shop:\nCatering Facilities Required?: Yes\nLift Access?: Yes\nSpecial Requirements Insert Here:\n By Booking This Appointment\, I Agree To The Terms & Conditions:\nNeed to make changes to this event? \nHome
URL:https://www.malpasvillagehall.com/event/abigail-bassett-modern-hall-4hr-party-booking-kitchen-access/
CATEGORIES:Private Bookings
END:VEVENT
END:VCALENDAR