BEGIN:VCALENDAR
VERSION:2.0
PRODID:-//Malpas Village Hall - ECPv5.12.0//NONSGML v1.0//EN
CALSCALE:GREGORIAN
METHOD:PUBLISH
X-WR-CALNAME:Malpas Village Hall
X-ORIGINAL-URL:https://www.malpasvillagehall.com
X-WR-CALDESC:Events for Malpas Village Hall
REFRESH-INTERVAL;VALUE=DURATION:PT1H
X-Robots-Tag:noindex
X-PUBLISHED-TTL:PT1H
BEGIN:VTIMEZONE
TZID:Europe/London
BEGIN:DAYLIGHT
TZOFFSETFROM:+0000
TZOFFSETTO:+0100
TZNAME:BST
DTSTART:20250330T010000
END:DAYLIGHT
BEGIN:STANDARD
TZOFFSETFROM:+0100
TZOFFSETTO:+0000
TZNAME:GMT
DTSTART:20251026T010000
END:STANDARD
END:VTIMEZONE
BEGIN:VEVENT
DTSTART;TZID=Europe/London:20250919T100000
DTEND;TZID=Europe/London:20250919T120000
DTSTAMP:20260425T205406
CREATED:20250911T092629Z
LAST-MODIFIED:20250911T092629Z
UID:132576-1758276000-1758283200@www.malpasvillagehall.com
SUMMARY:Trust Meeting
DESCRIPTION:Committee meeting – members only
URL:https://www.malpasvillagehall.com/event/trust-meeting/
LOCATION:Modern Hall\, Malpas Village Hall
ATTACH;FMTTYPE=image/jpeg:https://www.malpasvillagehall.com/wp-content/uploads/2024/03/MVHT-sq-logo.jpg
END:VEVENT
END:VCALENDAR