BEGIN:VCALENDAR
VERSION:2.0
PRODID:-//Malpas Village Hall - ECPv5.12.0//NONSGML v1.0//EN
CALSCALE:GREGORIAN
METHOD:PUBLISH
X-WR-CALNAME:Malpas Village Hall
X-ORIGINAL-URL:https://www.malpasvillagehall.com
X-WR-CALDESC:Events for Malpas Village Hall
REFRESH-INTERVAL;VALUE=DURATION:PT1H
X-Robots-Tag:noindex
X-PUBLISHED-TTL:PT1H
BEGIN:VTIMEZONE
TZID:Europe/London
BEGIN:DAYLIGHT
TZOFFSETFROM:+0000
TZOFFSETTO:+0100
TZNAME:BST
DTSTART:20250330T010000
END:DAYLIGHT
BEGIN:STANDARD
TZOFFSETFROM:+0100
TZOFFSETTO:+0000
TZNAME:GMT
DTSTART:20251026T010000
END:STANDARD
END:VTIMEZONE
BEGIN:VEVENT
DTSTART;TZID=Europe/London:20250922T090000
DTEND;TZID=Europe/London:20250922T130000
DTSTAMP:20260425T205359
CREATED:20250804T115819Z
LAST-MODIFIED:20250922T113029Z
UID:128667-1758531600-1758546000@www.malpasvillagehall.com
SUMMARY:Tamsin Read - Modern Hall 4hr Corporate Booking
DESCRIPTION:Name: Tamsin Read\nEmail: tamsin.read@cornwallwildlifetrust.org.uk\nEvent Or Organisation Name: Cornwall Wildlife Trust\nEvent Type: Work meeting\nEvent Description: All-day work meeting from about 9.00 – 4.00pm. We will bring tea\, coffee and milk and would like to be able to use the kitchen for this please.\nAttendance: 6 adults\nConsumption Of Alcohol?: No\nIf YES\, Please Specify Whether Consuming (not Selling) Own Drinks Or Requiring Bar Facility From On-line Shop:\nCatering Facilities Required?: Yes\nLift Access?: No\nSpecial Requirements Insert Here:\n By Booking This Appointment\, I Agree To The Terms & Conditions:\nNeed to make changes to this event? \nHome
URL:https://www.malpasvillagehall.com/event/tamsin-read-modern-hall-4hr-corporate-booking-2/
CATEGORIES:Private Bookings
END:VEVENT
BEGIN:VEVENT
DTSTART;TZID=Europe/London:20250922T140000
DTEND;TZID=Europe/London:20250922T180000
DTSTAMP:20260425T205359
CREATED:20250804T122901Z
LAST-MODIFIED:20250922T162852Z
UID:128672-1758549600-1758564000@www.malpasvillagehall.com
SUMMARY:Tamsin Read - Modern Hall 4hr Corporate Booking
DESCRIPTION:Name: Tamsin Read\nEmail: tamsin.read@cornwallwildlifetrust.org.uk\nEvent Or Organisation Name: Cornwall Wildlife Trust\nEvent Type: Work meeting\nEvent Description: All-day work meeting from 9.00am to 4.00pm. I have booked the morning session separately. We would like to use the kitchen please to make teas and coffees.\nAttendance: 6 adults\nConsumption Of Alcohol?: No\nIf YES\, Please Specify Whether Consuming (not Selling) Own Drinks Or Requiring Bar Facility From On-line Shop:\nCatering Facilities Required?: Yes\nLift Access?: No\nSpecial Requirements Insert Here:\n By Booking This Appointment\, I Agree To The Terms & Conditions:\nNeed to make changes to this event? \nHome
URL:https://www.malpasvillagehall.com/event/tamsin-read-modern-hall-4hr-corporate-booking-3/
CATEGORIES:Private Bookings
END:VEVENT
BEGIN:VEVENT
DTSTART;TZID=Europe/London:20250922T190000
DTEND;TZID=Europe/London:20250922T230000
DTSTAMP:20260425T205359
CREATED:20250730T001026Z
LAST-MODIFIED:20250922T182715Z
UID:128092-1758567600-1758582000@www.malpasvillagehall.com
SUMMARY:Martin Schofield - Modern Hall 4hr Private Booking
DESCRIPTION:Name: Martin Schofield\nEmail: merlin824@btinternet.com\nEvent Or Organisation Name: Truro Model Builders\nEvent Type: Club (tea and coffee only)\nEvent Description: Model making\nAttendance: Up to ten adults\nConsumption Of Alcohol?: No\nIf YES\, Please Specify Whether Consuming (not Selling) Own Drinks Or Requiring Bar Facility From On-line Shop:\nCatering Facilities Required?: Yes\nLift Access?: No\nSpecial Requirements Insert Here:\n By Booking This Appointment\, I Agree To The Terms & Conditions:\nNeed to make changes to this event? \nHome
URL:https://www.malpasvillagehall.com/event/martin-schofield-modern-hall-4hr-private-booking-44/
CATEGORIES:Private Bookings
END:VEVENT
END:VCALENDAR