BEGIN:VCALENDAR
VERSION:2.0
PRODID:-//Malpas Village Hall - ECPv5.12.0//NONSGML v1.0//EN
CALSCALE:GREGORIAN
METHOD:PUBLISH
X-WR-CALNAME:Malpas Village Hall
X-ORIGINAL-URL:https://www.malpasvillagehall.com
X-WR-CALDESC:Events for Malpas Village Hall
REFRESH-INTERVAL;VALUE=DURATION:PT1H
X-Robots-Tag:noindex
X-PUBLISHED-TTL:PT1H
BEGIN:VTIMEZONE
TZID:Europe/London
BEGIN:DAYLIGHT
TZOFFSETFROM:+0000
TZOFFSETTO:+0100
TZNAME:BST
DTSTART:20250330T010000
END:DAYLIGHT
BEGIN:STANDARD
TZOFFSETFROM:+0100
TZOFFSETTO:+0000
TZNAME:GMT
DTSTART:20251026T010000
END:STANDARD
END:VTIMEZONE
BEGIN:VEVENT
DTSTART;TZID=Europe/London:20250926T090000
DTEND;TZID=Europe/London:20250926T130000
DTSTAMP:20260425T205401
CREATED:20250821T001230Z
LAST-MODIFIED:20250926T115421Z
UID:130330-1758877200-1758891600@www.malpasvillagehall.com
SUMMARY:Martin Schofield - Modern Hall 4hr Private Booking
DESCRIPTION:Name: Martin Schofield\nEmail: merlin824@btinternet.com\nEvent Or Organisation Name: Truro Model Builders\nEvent Type: Club (use of cooking facilities)\nEvent Description: Model making\nAttendance: Up to ten adults\nConsumption Of Alcohol?: No\nIf YES\, Please Specify Whether Consuming (not Selling) Own Drinks Or Requiring Bar Facility From On-line Shop:\nCatering Facilities Required?: No\nLift Access?: No\nSpecial Requirements Insert Here:\n By Booking This Appointment\, I Agree To The Terms & Conditions:\nNeed to make changes to this event? \nHome
URL:https://www.malpasvillagehall.com/event/martin-schofield-modern-hall-4hr-private-booking-45/
CATEGORIES:Private Bookings
END:VEVENT
BEGIN:VEVENT
DTSTART;TZID=Europe/London:20250926T140000
DTEND;TZID=Europe/London:20250926T180000
DTSTAMP:20260425T205401
CREATED:20250821T001231Z
LAST-MODIFIED:20250926T165828Z
UID:130331-1758895200-1758909600@www.malpasvillagehall.com
SUMMARY:Martin Schofield - Modern Hall 4hr Private Booking
DESCRIPTION:Name: Martin Schofield\nEmail: merlin824@btinternet.com\nEvent Or Organisation Name: Truro Model Builders\nEvent Type: Club (use of cooking facilities)\nEvent Description: Model making\nAttendance: Up to ten adults\nConsumption Of Alcohol?: No\nIf YES\, Please Specify Whether Consuming (not Selling) Own Drinks Or Requiring Bar Facility From On-line Shop:\nCatering Facilities Required?: No\nLift Access?: No\nSpecial Requirements Insert Here:\n By Booking This Appointment\, I Agree To The Terms & Conditions:\nNeed to make changes to this event? \nHome
URL:https://www.malpasvillagehall.com/event/martin-schofield-modern-hall-4hr-private-booking-46/
CATEGORIES:Private Bookings
END:VEVENT
BEGIN:VEVENT
DTSTART;TZID=Europe/London:20250926T190000
DTEND;TZID=Europe/London:20250926T230000
DTSTAMP:20260425T205401
CREATED:20250821T001231Z
LAST-MODIFIED:20250926T182810Z
UID:130332-1758913200-1758927600@www.malpasvillagehall.com
SUMMARY:Martin Schofield - Modern Hall 4hr Private Booking
DESCRIPTION:Name: Martin Schofield\nEmail: merlin824@btinternet.com\nEvent Or Organisation Name: Truro Model Builders\nEvent Type: Club (use of cooking facilities)\nEvent Description: Model making\nAttendance: Up to ten adults\nConsumption Of Alcohol?: No\nIf YES\, Please Specify Whether Consuming (not Selling) Own Drinks Or Requiring Bar Facility From On-line Shop:\nCatering Facilities Required?: No\nLift Access?: No\nSpecial Requirements Insert Here:\n By Booking This Appointment\, I Agree To The Terms & Conditions:\nNeed to make changes to this event? \nHome
URL:https://www.malpasvillagehall.com/event/martin-schofield-modern-hall-4hr-private-booking-78/
CATEGORIES:Private Bookings
END:VEVENT
END:VCALENDAR