BEGIN:VCALENDAR
VERSION:2.0
PRODID:-//Malpas Village Hall - ECPv5.12.0//NONSGML v1.0//EN
CALSCALE:GREGORIAN
METHOD:PUBLISH
X-WR-CALNAME:Malpas Village Hall
X-ORIGINAL-URL:https://www.malpasvillagehall.com
X-WR-CALDESC:Events for Malpas Village Hall
REFRESH-INTERVAL;VALUE=DURATION:PT1H
X-Robots-Tag:noindex
X-PUBLISHED-TTL:PT1H
BEGIN:VTIMEZONE
TZID:Europe/London
BEGIN:DAYLIGHT
TZOFFSETFROM:+0000
TZOFFSETTO:+0100
TZNAME:BST
DTSTART:20250330T010000
END:DAYLIGHT
BEGIN:STANDARD
TZOFFSETFROM:+0100
TZOFFSETTO:+0000
TZNAME:GMT
DTSTART:20251026T010000
END:STANDARD
END:VTIMEZONE
BEGIN:VEVENT
DTSTART;TZID=Europe/London:20250704T090000
DTEND;TZID=Europe/London:20250704T130000
DTSTAMP:20260425T235331
CREATED:20250702T163117Z
LAST-MODIFIED:20250704T115950Z
UID:125338-1751619600-1751634000@www.malpasvillagehall.com
SUMMARY:Alice Tetley - Modern Hall 4hr Private Booking
DESCRIPTION:Name: Alice Tetley\nEmail: alice.tetley@gmx.co.uk\nEvent Or Organisation Name: Pilates\nEvent Type: Pilates\nEvent Description: Pilates classes\nAttendance: 10\nConsumption Of Alcohol?: No\nIf YES\, Please Specify Whether Consuming (not Selling) Own Drinks Or Requiring Bar Facility From On-line Shop:\nCatering Facilities Required?: No\nLift Access?: No\nSpecial Requirements Insert Here:\n By Booking This Appointment\, I Agree To The Terms & Conditions:\nNeed to make changes to this event? \nHome
URL:https://www.malpasvillagehall.com/event/alice-tetley-modern-hall-4hr-private-booking-50/
CATEGORIES:Private Bookings
END:VEVENT
BEGIN:VEVENT
DTSTART;TZID=Europe/London:20250704T190000
DTEND;TZID=Europe/London:20250704T220000
DTSTAMP:20260425T235331
CREATED:20250320T103417Z
LAST-MODIFIED:20250320T103417Z
UID:114543-1751655600-1751666400@www.malpasvillagehall.com
SUMMARY:Games Evening for everyone - Both Halls 7.00pm to 10.00pm
DESCRIPTION:Games Evening for everyone.\nCome along and enjoy a social chit-chat\, tea\, Coffee\, Dolphin Bar and tabletop games.\nWe have a selection of games that you can play – some old favourites & new games to try out. \nIf you have your own particular tabletop game you would like to share with others\, we encourage you to bring it along and have some fun!\nThere is no pressure to play at all – come along for a light-hearted evening\, drink and chat.\nFamilies are also welcome\, we have two table tennis tables with all the equipment.\nHope to see you soon
URL:https://www.malpasvillagehall.com/event/games-evening-for-everyone-both-halls-7-00pm-to-10-00pm-2/
LOCATION:Modern Hall\, Malpas Village Hall
ATTACH;FMTTYPE=image/jpeg:https://www.malpasvillagehall.com/wp-content/uploads/2024/09/Game-night-01-em.jpg
END:VEVENT
BEGIN:VEVENT
DTSTART;TZID=Europe/London:20250707T190000
DTEND;TZID=Europe/London:20250707T230000
DTSTAMP:20260425T235331
CREATED:20250613T000627Z
LAST-MODIFIED:20250707T195215Z
UID:123115-1751914800-1751929200@www.malpasvillagehall.com
SUMMARY:Martin Schofield - Modern Hall 4hr Private Booking
DESCRIPTION:Name: Martin Schofield\nEmail: merlin824@btinternet.com\nEvent Or Organisation Name: Truro Model Builders\nEvent Type: Club (tea and coffee only)\nEvent Description: Model making\nAttendance: Up to ten adults\nConsumption Of Alcohol?: No\nIf YES\, Please Specify Whether Consuming (not Selling) Own Drinks Or Requiring Bar Facility From On-line Shop:\nCatering Facilities Required?: Yes\nLift Access?: No\nSpecial Requirements Insert Here:\n By Booking This Appointment\, I Agree To The Terms & Conditions:\nNeed to make changes to this event? \nHome
URL:https://www.malpasvillagehall.com/event/martin-schofield-modern-hall-4hr-private-booking-36/
CATEGORIES:Private Bookings
END:VEVENT
BEGIN:VEVENT
DTSTART;TZID=Europe/London:20250711T090000
DTEND;TZID=Europe/London:20250711T130000
DTSTAMP:20260425T235331
CREATED:20250702T163118Z
LAST-MODIFIED:20250711T113147Z
UID:125339-1752224400-1752238800@www.malpasvillagehall.com
SUMMARY:Alice Tetley - Modern Hall 4hr Private Booking
DESCRIPTION:Name: Alice Tetley\nEmail: alice.tetley@gmx.co.uk\nEvent Or Organisation Name: Pilates\nEvent Type: Pilates\nEvent Description: Pilates classes\nAttendance: 10\nConsumption Of Alcohol?: No\nIf YES\, Please Specify Whether Consuming (not Selling) Own Drinks Or Requiring Bar Facility From On-line Shop:\nCatering Facilities Required?: No\nLift Access?: No\nSpecial Requirements Insert Here:\n By Booking This Appointment\, I Agree To The Terms & Conditions:\nNeed to make changes to this event? \nHome
URL:https://www.malpasvillagehall.com/event/alice-tetley-modern-hall-4hr-private-booking-51/
CATEGORIES:Private Bookings
END:VEVENT
BEGIN:VEVENT
DTSTART;TZID=Europe/London:20250712T090000
DTEND;TZID=Europe/London:20250712T230000
DTSTAMP:20260425T235331
CREATED:20250113T092148Z
LAST-MODIFIED:20250113T092428Z
UID:108591-1752310800-1752361200@www.malpasvillagehall.com
SUMMARY:All Day Wedding Celebration
DESCRIPTION:All-Day Wedding Celebration – Both Halls and Kitchen \nPrivate Gathering – Invoice booking  
URL:https://www.malpasvillagehall.com/event/wedding-celebration/
LOCATION:Modern Hall\, Malpas Village Hall
CATEGORIES:Private Bookings
ATTACH;FMTTYPE=image/jpeg:https://www.malpasvillagehall.com/wp-content/uploads/2022/10/Dolphin-Bar-W18.jpg
END:VEVENT
BEGIN:VEVENT
DTSTART;TZID=Europe/London:20250714T190000
DTEND;TZID=Europe/London:20250714T230000
DTSTAMP:20260425T235331
CREATED:20250613T000627Z
LAST-MODIFIED:20250714T192840Z
UID:123116-1752519600-1752534000@www.malpasvillagehall.com
SUMMARY:Martin Schofield - Modern Hall 4hr Private Booking
DESCRIPTION:Name: Martin Schofield\nEmail: merlin824@btinternet.com\nEvent Or Organisation Name: Truro Model Builders\nEvent Type: Club (tea and coffee only)\nEvent Description: Model making\nAttendance: Up to ten adults\nConsumption Of Alcohol?: No\nIf YES\, Please Specify Whether Consuming (not Selling) Own Drinks Or Requiring Bar Facility From On-line Shop:\nCatering Facilities Required?: Yes\nLift Access?: No\nSpecial Requirements Insert Here:\n By Booking This Appointment\, I Agree To The Terms & Conditions:\nNeed to make changes to this event? \nHome
URL:https://www.malpasvillagehall.com/event/martin-schofield-modern-hall-4hr-private-booking-37/
CATEGORIES:Private Bookings
END:VEVENT
BEGIN:VEVENT
DTSTART;TZID=Europe/London:20250718T090000
DTEND;TZID=Europe/London:20250718T130000
DTSTAMP:20260425T235331
CREATED:20250702T163118Z
LAST-MODIFIED:20250718T113923Z
UID:125340-1752829200-1752843600@www.malpasvillagehall.com
SUMMARY:Alice Tetley - Modern Hall 4hr Private Booking
DESCRIPTION:Name: Alice Tetley\nEmail: alice.tetley@gmx.co.uk\nEvent Or Organisation Name: Pilates\nEvent Type: Pilates\nEvent Description: Pilates classes\nAttendance: 10\nConsumption Of Alcohol?: No\nIf YES\, Please Specify Whether Consuming (not Selling) Own Drinks Or Requiring Bar Facility From On-line Shop:\nCatering Facilities Required?: No\nLift Access?: No\nSpecial Requirements Insert Here:\n By Booking This Appointment\, I Agree To The Terms & Conditions:\nNeed to make changes to this event? \nHome
URL:https://www.malpasvillagehall.com/event/alice-tetley-modern-hall-4hr-private-booking-52/
CATEGORIES:Private Bookings
END:VEVENT
BEGIN:VEVENT
DTSTART;TZID=Europe/London:20250719T140000
DTEND;TZID=Europe/London:20250719T180000
DTSTAMP:20260425T235331
CREATED:20250619T172530Z
LAST-MODIFIED:20250719T164022Z
UID:123909-1752933600-1752948000@www.malpasvillagehall.com
SUMMARY:Rita Wicks - Modern Hall 4hr Private Booking
DESCRIPTION:Name: Rita Wicks\nEmail: info@artandwinecornwall.com\nEvent Or Organisation Name: Art & Wine cornwall\nEvent Type: Painting Workshop\nEvent Description: Painting Workshop\nAttendance: 10\nConsumption Of Alcohol?: Yes\nIf YES\, Please Specify Whether Consuming (not Selling) Own Drinks Or Requiring Bar Facility From On-line Shop: own\nCatering Facilities Required?: No\nLift Access?: Yes\nSpecial Requirements Insert Here:\n By Booking This Appointment\, I Agree To The Terms & Conditions:\nNeed to make changes to this event? \nHome
URL:https://www.malpasvillagehall.com/event/rita-wicks-modern-hall-4hr-private-booking-2/
CATEGORIES:Private Bookings
END:VEVENT
BEGIN:VEVENT
DTSTART;TZID=Europe/London:20250725T090000
DTEND;TZID=Europe/London:20250725T130000
DTSTAMP:20260425T235331
CREATED:20250702T163119Z
LAST-MODIFIED:20250725T115813Z
UID:125341-1753434000-1753448400@www.malpasvillagehall.com
SUMMARY:Alice Tetley - Modern Hall 4hr Private Booking
DESCRIPTION:Name: Alice Tetley\nEmail: alice.tetley@gmx.co.uk\nEvent Or Organisation Name: Pilates\nEvent Type: Pilates\nEvent Description: Pilates classes\nAttendance: 10\nConsumption Of Alcohol?: No\nIf YES\, Please Specify Whether Consuming (not Selling) Own Drinks Or Requiring Bar Facility From On-line Shop:\nCatering Facilities Required?: No\nLift Access?: No\nSpecial Requirements Insert Here:\n By Booking This Appointment\, I Agree To The Terms & Conditions:\nNeed to make changes to this event? \nHome
URL:https://www.malpasvillagehall.com/event/alice-tetley-modern-hall-4hr-private-booking-53/
CATEGORIES:Private Bookings
END:VEVENT
BEGIN:VEVENT
DTSTART;TZID=Europe/London:20250728T190000
DTEND;TZID=Europe/London:20250728T230000
DTSTAMP:20260425T235331
CREATED:20250727T141337Z
LAST-MODIFIED:20250728T174227Z
UID:127854-1753729200-1753743600@www.malpasvillagehall.com
SUMMARY:Martin Schofield - Modern Hall 4hr Private Booking
DESCRIPTION:Name: Martin Schofield\nEmail: merlin824@btinternet.com\nEvent Or Organisation Name: Truro Model Builders\nEvent Type: Club (tea and coffee only)\nEvent Description: Model making\nAttendance: Up to ten adults\nConsumption Of Alcohol?: No\nIf YES\, Please Specify Whether Consuming (not Selling) Own Drinks Or Requiring Bar Facility From On-line Shop:\nCatering Facilities Required?: Yes\nLift Access?: No\nSpecial Requirements Insert Here:\n By Booking This Appointment\, I Agree To The Terms & Conditions:\nNeed to make changes to this event? \nHome
URL:https://www.malpasvillagehall.com/event/martin-schofield-modern-hall-4hr-private-booking-38/
CATEGORIES:Private Bookings
END:VEVENT
END:VCALENDAR