BEGIN:VCALENDAR
VERSION:2.0
PRODID:-//Malpas Village Hall - ECPv5.12.0//NONSGML v1.0//EN
CALSCALE:GREGORIAN
METHOD:PUBLISH
X-WR-CALNAME:Malpas Village Hall
X-ORIGINAL-URL:https://www.malpasvillagehall.com
X-WR-CALDESC:Events for Malpas Village Hall
REFRESH-INTERVAL;VALUE=DURATION:PT1H
X-Robots-Tag:noindex
X-PUBLISHED-TTL:PT1H
BEGIN:VTIMEZONE
TZID:Europe/London
BEGIN:DAYLIGHT
TZOFFSETFROM:+0000
TZOFFSETTO:+0100
TZNAME:BST
DTSTART:20250330T010000
END:DAYLIGHT
BEGIN:STANDARD
TZOFFSETFROM:+0100
TZOFFSETTO:+0000
TZNAME:GMT
DTSTART:20251026T010000
END:STANDARD
END:VTIMEZONE
BEGIN:VEVENT
DTSTART;TZID=Europe/London:20250804T190000
DTEND;TZID=Europe/London:20250804T230000
DTSTAMP:20260425T205422
CREATED:20250730T001010Z
LAST-MODIFIED:20250804T194248Z
UID:128089-1754334000-1754348400@www.malpasvillagehall.com
SUMMARY:Martin Schofield - Modern Hall 4hr Private Booking
DESCRIPTION:Name: Martin Schofield\nEmail: merlin824@btinternet.com\nEvent Or Organisation Name: Truro Model Builders\nEvent Type: Club (tea and coffee only)\nEvent Description: Model making\nAttendance: Up to ten adults\nConsumption Of Alcohol?: No\nIf YES\, Please Specify Whether Consuming (not Selling) Own Drinks Or Requiring Bar Facility From On-line Shop:\nCatering Facilities Required?: Yes\nLift Access?: No\nSpecial Requirements Insert Here:\n By Booking This Appointment\, I Agree To The Terms & Conditions:\nNeed to make changes to this event? \nHome
URL:https://www.malpasvillagehall.com/event/martin-schofield-modern-hall-4hr-private-booking-41/
CATEGORIES:Private Bookings
END:VEVENT
BEGIN:VEVENT
DTSTART;TZID=Europe/London:20250811T090000
DTEND;TZID=Europe/London:20250811T130000
DTSTAMP:20260425T205422
CREATED:20250430T084008Z
LAST-MODIFIED:20250811T112432Z
UID:118685-1754902800-1754917200@www.malpasvillagehall.com
SUMMARY:Amy Lamorna Ireland - Modern Hall 4hr Private Booking Kitchen Access
DESCRIPTION:Name: Amy Lamorna Ireland\nEmail: hello@lamorna-academy.co.uk\nEvent Or Organisation Name: Lamorna Academy\nEvent Type: Creative Writing Workshop\nEvent Description: An adult creative writing workshop taught by a qualified English teacher and published author. We will use the stunning backdrop of the River Fal for inspiration in sensory writing\, as well as study the craft of writing with a ‘sense of place’. Tuition will mostly take place inside\, however attendees will be encouraged to take a ‘plot walk’ half way through to get a closer look at the river\, its sounds and smells.\nHomemade cake\, tea and coffee will be provided\, however attendees will be required to bring their own lunches (or may like to use the local food establishments).\nAttendance: Up to 11 adults (including teacher)\nConsumption Of Alcohol?: No\nIf YES\, Please Specify Whether Consuming (not Selling) Own Drinks Or Requiring Bar Facility From On-line Shop:\nCatering Facilities Required?: Yes\nLift Access?: Yes\nSpecial Requirements Insert Here: Is it possible to have access to a projector please? And enough tables and chairs for up to 11 people and a resource table. Would it also be possible to have access to the balcony?\n By Booking This Appointment\, I Agree To The Terms & Conditions:\nNeed to make changes to this event? \nHome
URL:https://www.malpasvillagehall.com/event/amy-lamorna-ireland-modern-hall-4hr-private-booking-kitchen-access/
CATEGORIES:Private Bookings
END:VEVENT
BEGIN:VEVENT
DTSTART;TZID=Europe/London:20250811T190000
DTEND;TZID=Europe/London:20250811T230000
DTSTAMP:20260425T205422
CREATED:20250727T141337Z
LAST-MODIFIED:20250811T175441Z
UID:127855-1754938800-1754953200@www.malpasvillagehall.com
SUMMARY:Martin Schofield - Modern Hall 4hr Private Booking
DESCRIPTION:Name: Martin Schofield\nEmail: merlin824@btinternet.com\nEvent Or Organisation Name: Truro Model Builders\nEvent Type: Club (tea and coffee only)\nEvent Description: Model making\nAttendance: Up to ten adults\nConsumption Of Alcohol?: No\nIf YES\, Please Specify Whether Consuming (not Selling) Own Drinks Or Requiring Bar Facility From On-line Shop:\nCatering Facilities Required?: Yes\nLift Access?: No\nSpecial Requirements Insert Here:\n By Booking This Appointment\, I Agree To The Terms & Conditions:\nNeed to make changes to this event? \nHome
URL:https://www.malpasvillagehall.com/event/martin-schofield-modern-hall-4hr-private-booking-39/
CATEGORIES:Private Bookings
END:VEVENT
BEGIN:VEVENT
DTSTART;TZID=Europe/London:20250818T190000
DTEND;TZID=Europe/London:20250818T230000
DTSTAMP:20260425T205422
CREATED:20250727T141338Z
LAST-MODIFIED:20250818T175454Z
UID:127856-1755543600-1755558000@www.malpasvillagehall.com
SUMMARY:Martin Schofield - Modern Hall 4hr Private Booking
DESCRIPTION:Name: Martin Schofield\nEmail: merlin824@btinternet.com\nEvent Or Organisation Name: Truro Model Builders\nEvent Type: Club (tea and coffee only)\nEvent Description: Model making\nAttendance: Up to ten adults\nConsumption Of Alcohol?: No\nIf YES\, Please Specify Whether Consuming (not Selling) Own Drinks Or Requiring Bar Facility From On-line Shop:\nCatering Facilities Required?: Yes\nLift Access?: No\nSpecial Requirements Insert Here:\n By Booking This Appointment\, I Agree To The Terms & Conditions:\nNeed to make changes to this event? \nHome
URL:https://www.malpasvillagehall.com/event/martin-schofield-modern-hall-4hr-private-booking-40/
CATEGORIES:Private Bookings
END:VEVENT
BEGIN:VEVENT
DTSTART;TZID=Europe/London:20250823T090000
DTEND;TZID=Europe/London:20250823T130000
DTSTAMP:20260425T205422
CREATED:20250729T003928Z
LAST-MODIFIED:20250823T001045Z
UID:127987-1755939600-1755954000@www.malpasvillagehall.com
SUMMARY:Julia Rowlands - Modern Hall 4hr Private Booking Kitchen Access
DESCRIPTION:Name: Julia Rowlands\nEmail: jdrowlands0@gmail.com\nEvent Or Organisation Name: Colour workshop\nEvent Type: Lessons\nEvent Description: Art class\nAttendance: min 5 – max 8\nConsumption Of Alcohol?: No\nIf YES\, Please Specify Whether Consuming (not Selling) Own Drinks Or Requiring Bar Facility From On-line Shop: Tea and Coffee\nCatering Facilities Required?: Yes\nLift Access?: Yes\nSpecial Requirements Insert Here:\n By Booking This Appointment\, I Agree To The Terms & Conditions:\nNeed to make changes to this event? \nHome
URL:https://www.malpasvillagehall.com/event/julia-rowlands-modern-hall-4hr-private-booking-kitchen-access/
CATEGORIES:Private Bookings
END:VEVENT
BEGIN:VEVENT
DTSTART;TZID=Europe/London:20250823T140000
DTEND;TZID=Europe/London:20250823T180000
DTSTAMP:20260425T205422
CREATED:20250619T172530Z
LAST-MODIFIED:20250823T001045Z
UID:123910-1755957600-1755972000@www.malpasvillagehall.com
SUMMARY:Rita Wicks - Modern Hall 4hr Private Booking
DESCRIPTION:Name: Rita Wicks\nEmail: info@artandwinecornwall.com\nEvent Or Organisation Name: Art & Wine Cornwall\nEvent Type: Painting workshop\nEvent Description: painting workshop\nAttendance: 10\nConsumption Of Alcohol?: No\nIf YES\, Please Specify Whether Consuming (not Selling) Own Drinks Or Requiring Bar Facility From On-line Shop: own\nCatering Facilities Required?: No\nLift Access?: Yes\nSpecial Requirements Insert Here:\n By Booking This Appointment\, I Agree To The Terms & Conditions:\nNeed to make changes to this event? \nHome
URL:https://www.malpasvillagehall.com/event/rita-wicks-modern-hall-4hr-private-booking-3/
CATEGORIES:Private Bookings
END:VEVENT
BEGIN:VEVENT
DTSTART;TZID=Europe/London:20250824T090000
DTEND;TZID=Europe/London:20250824T130000
DTSTAMP:20260425T205422
CREATED:20250729T011003Z
LAST-MODIFIED:20250823T001045Z
UID:127992-1756026000-1756040400@www.malpasvillagehall.com
SUMMARY:Julia Rowlands - Modern Hall 4hr Private Booking Kitchen Access
DESCRIPTION:Name: Julia Rowlands\nEmail: jdrowlands0@gmail.com\nEvent Or Organisation Name: Colour workshop\nEvent Type: Lessons\nEvent Description: Art Class\nAttendance: min 5 – max 8\nConsumption Of Alcohol?: No\nIf YES\, Please Specify Whether Consuming (not Selling) Own Drinks Or Requiring Bar Facility From On-line Shop: Tea and Coffee\nCatering Facilities Required?: Yes\nLift Access?: Yes\nSpecial Requirements Insert Here:\n By Booking This Appointment\, I Agree To The Terms & Conditions:\nNeed to make changes to this event? \nHome
URL:https://www.malpasvillagehall.com/event/julia-rowlands-modern-hall-4hr-private-booking-kitchen-access-2/
CATEGORIES:Private Bookings
END:VEVENT
BEGIN:VEVENT
DTSTART;TZID=Europe/London:20250829T090000
DTEND;TZID=Europe/London:20250829T130000
DTSTAMP:20260425T205422
CREATED:20250825T124048Z
LAST-MODIFIED:20250829T111140Z
UID:130841-1756458000-1756472400@www.malpasvillagehall.com
SUMMARY:jessicaPearson - Modern Hall 4hr Private Booking Kitchen Use
DESCRIPTION:Name: jessicaPearson\nEmail: jdcp135@protonmail.com\nEvent Or Organisation Name: mum time\nEvent Type: A small treat for my daughter.\nEvent Description: Morning booking.\nWe need the hall and kitchen from 9am until 5pm please can you tell me how I can book over lunch period until 5pm. I’ve booked the after noon too\, without a kitchen. thank you.\nMy daughter (11) and I will be making a lovely meal/cake together in the morning and enjoying having extra room which we don’t have at home. then we will spread out all the Lego for a couple of hours afterwards 🙂\nI will arrive at 9am to set up before leaving to collect my daughter\, so will need key to secure the building in between times. you can contact me on 07949190949.\nAttendance: 3-4 people\nConsumption Of Alcohol?: No\nIf YES\, Please Specify Whether Consuming (not Selling) Own Drinks Or Requiring Bar Facility From On-line Shop:\nCatering Facilities Required?: Yes\nLift Access?: No\nSpecial Requirements Insert Here:\n By Booking This Appointment\, I Agree To The Terms & Conditions:\nNeed to make changes to this event? \nHome
URL:https://www.malpasvillagehall.com/event/jessicapearson-modern-hall-4hr-private-booking-kitchen-use/
CATEGORIES:Private Bookings
END:VEVENT
BEGIN:VEVENT
DTSTART;TZID=Europe/London:20250829T140000
DTEND;TZID=Europe/London:20250829T180000
DTSTAMP:20260425T205422
CREATED:20250826T133541Z
LAST-MODIFIED:20250829T163037Z
UID:130968-1756476000-1756490400@www.malpasvillagehall.com
SUMMARY:Jessica Pearson - Modern Hall 4hr Private Booking
DESCRIPTION:Name: Jessica Pearson\nEmail: Jdcp135@protonmail.com\nEvent Or Organisation Name: carried on from am without kitchen\nEvent Type: Same as AM booking.\nEvent Description: Same as AM booking\, without kitchen. Lego play spreading out 🙂\nAttendance: 2-4\nConsumption Of Alcohol?: No\nIf YES\, Please Specify Whether Consuming (not Selling) Own Drinks Or Requiring Bar Facility From On-line Shop:\nCatering Facilities Required?: No\nLift Access?: No\nSpecial Requirements Insert Here:\n By Booking This Appointment\, I Agree To The Terms & Conditions:\nNeed to make changes to this event? \nHome
URL:https://www.malpasvillagehall.com/event/jessica-pearson-modern-hall-4hr-private-booking/
CATEGORIES:Private Bookings
END:VEVENT
END:VCALENDAR