BEGIN:VCALENDAR
VERSION:2.0
PRODID:-//Malpas Village Hall - ECPv5.12.0//NONSGML v1.0//EN
CALSCALE:GREGORIAN
METHOD:PUBLISH
X-WR-CALNAME:Malpas Village Hall
X-ORIGINAL-URL:https://www.malpasvillagehall.com
X-WR-CALDESC:Events for Malpas Village Hall
REFRESH-INTERVAL;VALUE=DURATION:PT1H
X-Robots-Tag:noindex
X-PUBLISHED-TTL:PT1H
BEGIN:VTIMEZONE
TZID:Europe/London
BEGIN:DAYLIGHT
TZOFFSETFROM:+0000
TZOFFSETTO:+0100
TZNAME:BST
DTSTART:20250330T010000
END:DAYLIGHT
BEGIN:STANDARD
TZOFFSETFROM:+0100
TZOFFSETTO:+0000
TZNAME:GMT
DTSTART:20251026T010000
END:STANDARD
END:VTIMEZONE
BEGIN:VEVENT
DTSTART;TZID=Europe/London:20251001T190000
DTEND;TZID=Europe/London:20251001T230000
DTSTAMP:20260425T174713
CREATED:20250929T120930Z
LAST-MODIFIED:20251001T182241Z
UID:134416-1759345200-1759359600@www.malpasvillagehall.com
SUMMARY:Danielle - Modern Hall 4hr Private Booking
DESCRIPTION:Name: Danielle\nEmail: Daniellecurtis0810@gmail.com\nEvent Or Organisation Name: Synergy Singing group\nEvent Type: Small singing group\nEvent Description: Small group of singers rehearsal\nAttendance: 8x adults\nConsumption Of Alcohol?: No\nIf YES\, Please Specify Whether Consuming (not Selling) Own Drinks Or Requiring Bar Facility From On-line Shop:\nCatering Facilities Required?: No\nLift Access?: No\nSpecial Requirements Insert Here:\n By Booking This Appointment\, I Agree To The Terms & Conditions:\nNeed to make changes to this event? \nHome
URL:https://www.malpasvillagehall.com/event/danielle-modern-hall-4hr-private-booking/
CATEGORIES:Private Bookings
END:VEVENT
BEGIN:VEVENT
DTSTART;TZID=Europe/London:20251013T190000
DTEND;TZID=Europe/London:20251013T230000
DTSTAMP:20260425T174713
CREATED:20250928T162343Z
LAST-MODIFIED:20251013T175508Z
UID:134326-1760382000-1760396400@www.malpasvillagehall.com
SUMMARY:Martin Schofield - Modern Hall 4hr Private Booking
DESCRIPTION:Name: Martin Schofield\nEmail: merlin824@btinternet.com\nEvent Or Organisation Name: Truro Model Builders\nEvent Type: Club (tea and coffee only)\nEvent Description: Model making\nAttendance: Up to ten adults\nConsumption Of Alcohol?: No\nIf YES\, Please Specify Whether Consuming (not Selling) Own Drinks Or Requiring Bar Facility From On-line Shop:\nCatering Facilities Required?: Yes\nLift Access?: No\nSpecial Requirements Insert Here:\n By Booking This Appointment\, I Agree To The Terms & Conditions:\nNeed to make changes to this event? \nHome
URL:https://www.malpasvillagehall.com/event/martin-schofield-modern-hall-4hr-private-booking-47/
CATEGORIES:Private Bookings
END:VEVENT
BEGIN:VEVENT
DTSTART;TZID=Europe/London:20251014T100000
DTEND;TZID=Europe/London:20251014T123000
DTSTAMP:20260425T174713
CREATED:20251010T103928Z
LAST-MODIFIED:20251010T103928Z
UID:135515-1760436000-1760445000@www.malpasvillagehall.com
SUMMARY:Coffee morning for the community
DESCRIPTION:Coffee morning for the community\, free for all
URL:https://www.malpasvillagehall.com/event/coffee-morning-for-the-community/
LOCATION:Modern Hall\, Malpas Village Hall
END:VEVENT
BEGIN:VEVENT
DTSTART;TZID=Europe/London:20251020T190000
DTEND;TZID=Europe/London:20251020T230000
DTSTAMP:20260425T174713
CREATED:20250928T162344Z
LAST-MODIFIED:20251020T183234Z
UID:134327-1760986800-1761001200@www.malpasvillagehall.com
SUMMARY:Martin Schofield - Modern Hall 4hr Private Booking
DESCRIPTION:Name: Martin Schofield\nEmail: merlin824@btinternet.com\nEvent Or Organisation Name: Truro Model Builders\nEvent Type: Club (tea and coffee only)\nEvent Description: Model making\nAttendance: Up to ten adults\nConsumption Of Alcohol?: No\nIf YES\, Please Specify Whether Consuming (not Selling) Own Drinks Or Requiring Bar Facility From On-line Shop:\nCatering Facilities Required?: Yes\nLift Access?: No\nSpecial Requirements Insert Here:\n By Booking This Appointment\, I Agree To The Terms & Conditions:\nNeed to make changes to this event? \nHome
URL:https://www.malpasvillagehall.com/event/martin-schofield-modern-hall-4hr-private-booking-48/
CATEGORIES:Private Bookings
END:VEVENT
BEGIN:VEVENT
DTSTART;TZID=Europe/London:20251021T090000
DTEND;TZID=Europe/London:20251021T130000
DTSTAMP:20260425T174713
CREATED:20250821T092438Z
LAST-MODIFIED:20251021T115637Z
UID:130382-1761037200-1761051600@www.malpasvillagehall.com
SUMMARY:James Webb - Modern Hall 4hr Corporate Booking
DESCRIPTION:Name: James Webb\nEmail: reception@cornwallwildlifetrust.org.uk\nEvent Or Organisation Name: Cornwall Wildlife Trust\nEvent Type: Meeting\nEvent Description: Work event. Will need to use kitchen just for teas & coffees\nAttendance: 15 adults\nConsumption Of Alcohol?: No\nIf YES\, Please Specify Whether Consuming (not Selling) Own Drinks Or Requiring Bar Facility From On-line Shop:\nCatering Facilities Required?: Yes\nLift Access?: No\nSpecial Requirements Insert Here:\n By Booking This Appointment\, I Agree To The Terms & Conditions:\nNeed to make changes to this event? \nHome
URL:https://www.malpasvillagehall.com/event/james-webb-modern-hall-4hr-corporate-booking/
CATEGORIES:Private Bookings
END:VEVENT
BEGIN:VEVENT
DTSTART;TZID=Europe/London:20251021T100000
DTEND;TZID=Europe/London:20251021T120000
DTSTAMP:20260425T174713
CREATED:20251010T104041Z
LAST-MODIFIED:20251010T104041Z
UID:135517-1761040800-1761048000@www.malpasvillagehall.com
SUMMARY:Social Committee Meeting (Members only)
DESCRIPTION:Social Committee Meeting (Members only)
URL:https://www.malpasvillagehall.com/event/social-committee-meeting-members-only-2/
LOCATION:Modern Hall\, Malpas Village Hall
END:VEVENT
BEGIN:VEVENT
DTSTART;TZID=Europe/London:20251022T090000
DTEND;TZID=Europe/London:20251022T130000
DTSTAMP:20260425T174713
CREATED:20251010T104505Z
LAST-MODIFIED:20251010T104505Z
UID:135532-1761123600-1761138000@www.malpasvillagehall.com
SUMMARY:Fire Alarm Service - Both halls in the morning
DESCRIPTION:Fire Alarm Service – Both halls in the morning\, maintenance works\nBOTH HALLS
URL:https://www.malpasvillagehall.com/event/fire-alarm-service-both-halls-in-the-morning-2/
LOCATION:Modern Hall\, Malpas Village Hall
END:VEVENT
BEGIN:VEVENT
DTSTART;TZID=Europe/London:20251025T090000
DTEND;TZID=Europe/London:20251025T130000
DTSTAMP:20260425T174713
CREATED:20251010T100005Z
LAST-MODIFIED:20251010T100005Z
UID:135513-1761382800-1761397200@www.malpasvillagehall.com
SUMMARY:Meeting VQRA with Belmont
DESCRIPTION:Residents meeting with property management
URL:https://www.malpasvillagehall.com/event/meeting-vqra-with-belmont/
LOCATION:Modern Hall\, Malpas Village Hall
END:VEVENT
BEGIN:VEVENT
DTSTART;TZID=Europe/London:20251027T090000
DTEND;TZID=Europe/London:20251027T130000
DTSTAMP:20260425T174713
CREATED:20250923T140922Z
LAST-MODIFIED:20251027T122613Z
UID:133807-1761555600-1761570000@www.malpasvillagehall.com
SUMMARY:Jessica Pearson - Modern Hall 4hr Private Booking Kitchen Use
DESCRIPTION:Name: Jessica Pearson\nEmail: Jdcp135@protonmail.com\nEvent Or Organisation Name: Family crafting\nEvent Type: Family crafting\nEvent Description: 6 people doing Halloween crafting & making food\nAttendance: 6\nConsumption Of Alcohol?: No\nIf YES\, Please Specify Whether Consuming (not Selling) Own Drinks Or Requiring Bar Facility From On-line Shop:\nCatering Facilities Required?: No\nLift Access?: Yes\nSpecial Requirements Insert Here: The lift was not working properly at last booking at end of August. This time my mum is coming and she struggles with stairs. Disabled access required.\n By Booking This Appointment\, I Agree To The Terms & Conditions:\nNeed to make changes to this event? \nHome
URL:https://www.malpasvillagehall.com/event/jessica-pearson-modern-hall-4hr-private-booking-kitchen-use/
CATEGORIES:Private Bookings
END:VEVENT
BEGIN:VEVENT
DTSTART;TZID=Europe/London:20251027T140000
DTEND;TZID=Europe/London:20251027T180000
DTSTAMP:20260425T174713
CREATED:20250923T140922Z
LAST-MODIFIED:20251027T174012Z
UID:133808-1761573600-1761588000@www.malpasvillagehall.com
SUMMARY:Jessica Pearson - Modern Hall 4hr Private Booking
DESCRIPTION:Name: Jessica Pearson\nEmail: Jdcp135@protonmail.com\nEvent Or Organisation Name: Family craft day\nEvent Type: Family craft day\nEvent Description: Follow on from the morning. A couple of hours of crafting & games.\nAttendance: 6\nConsumption Of Alcohol?: No\nIf YES\, Please Specify Whether Consuming (not Selling) Own Drinks Or Requiring Bar Facility From On-line Shop:\nCatering Facilities Required?: No\nLift Access?: Yes\nSpecial Requirements Insert Here: As before\, in morning application\, disabled access needed.\n By Booking This Appointment\, I Agree To The Terms & Conditions:\nNeed to make changes to this event? \nHome
URL:https://www.malpasvillagehall.com/event/jessica-pearson-modern-hall-4hr-private-booking-2/
CATEGORIES:Private Bookings
END:VEVENT
BEGIN:VEVENT
DTSTART;TZID=Europe/London:20251027T190000
DTEND;TZID=Europe/London:20251027T230000
DTSTAMP:20260425T174713
CREATED:20250928T162344Z
LAST-MODIFIED:20251027T184246Z
UID:134328-1761591600-1761606000@www.malpasvillagehall.com
SUMMARY:Martin Schofield - Modern Hall 4hr Private Booking
DESCRIPTION:Name: Martin Schofield\nEmail: merlin824@btinternet.com\nEvent Or Organisation Name: Truro Model Builders\nEvent Type: Club (tea and coffee only)\nEvent Description: Model making\nAttendance: Up to ten adults\nConsumption Of Alcohol?: No\nIf YES\, Please Specify Whether Consuming (not Selling) Own Drinks Or Requiring Bar Facility From On-line Shop:\nCatering Facilities Required?: Yes\nLift Access?: No\nSpecial Requirements Insert Here:\n By Booking This Appointment\, I Agree To The Terms & Conditions:\nNeed to make changes to this event? \nHome
URL:https://www.malpasvillagehall.com/event/martin-schofield-modern-hall-4hr-private-booking-49/
CATEGORIES:Private Bookings
END:VEVENT
END:VCALENDAR