BEGIN:VCALENDAR
VERSION:2.0
PRODID:-//Malpas Village Hall - ECPv5.12.0//NONSGML v1.0//EN
CALSCALE:GREGORIAN
METHOD:PUBLISH
X-WR-CALNAME:Malpas Village Hall
X-ORIGINAL-URL:https://www.malpasvillagehall.com
X-WR-CALDESC:Events for Malpas Village Hall
REFRESH-INTERVAL;VALUE=DURATION:PT1H
X-Robots-Tag:noindex
X-PUBLISHED-TTL:PT1H
BEGIN:VTIMEZONE
TZID:Europe/London
BEGIN:DAYLIGHT
TZOFFSETFROM:+0000
TZOFFSETTO:+0100
TZNAME:BST
DTSTART:20250330T010000
END:DAYLIGHT
BEGIN:STANDARD
TZOFFSETFROM:+0100
TZOFFSETTO:+0000
TZNAME:GMT
DTSTART:20251026T010000
END:STANDARD
END:VTIMEZONE
BEGIN:VEVENT
DTSTART;TZID=Europe/London:20251102T190000
DTEND;TZID=Europe/London:20251102T230000
DTSTAMP:20260425T162504
CREATED:20251017T004304Z
LAST-MODIFIED:20251102T182702Z
UID:136197-1762110000-1762124400@www.malpasvillagehall.com
SUMMARY:Maddie Harvey - Modern Hall 4hr Private Booking
DESCRIPTION:Name: Maddie Harvey\nEmail: Harveymaddie9@gmail.com\nEvent Or Organisation Name: Birthday\nEvent Type: Birthday\nEvent Description: Small gathering\, no cooking but will be bring light picking snacks\nAttendance: Approx 10 adults/ 1 child potentially\nConsumption Of Alcohol?: No\nIf YES\, Please Specify Whether Consuming (not Selling) Own Drinks Or Requiring Bar Facility From On-line Shop:\nCatering Facilities Required?: Yes\nLift Access?: No\nSpecial Requirements Insert Here:\n By Booking This Appointment\, I Agree To The Terms & Conditions:\nNeed to make changes to this event? \nHome
URL:https://www.malpasvillagehall.com/event/maddie-harvey-modern-hall-4hr-private-booking/
CATEGORIES:Private Bookings
END:VEVENT
BEGIN:VEVENT
DTSTART;TZID=Europe/London:20251103T190000
DTEND;TZID=Europe/London:20251103T230000
DTSTAMP:20260425T162504
CREATED:20250928T162345Z
LAST-MODIFIED:20251103T184240Z
UID:134329-1762196400-1762210800@www.malpasvillagehall.com
SUMMARY:Martin Schofield - Modern Hall 4hr Private Booking
DESCRIPTION:Name: Martin Schofield\nEmail: merlin824@btinternet.com\nEvent Or Organisation Name: Truro Model Builders\nEvent Type: Club (tea and coffee only)\nEvent Description: Model making\nAttendance: Up to ten adults\nConsumption Of Alcohol?: No\nIf YES\, Please Specify Whether Consuming (not Selling) Own Drinks Or Requiring Bar Facility From On-line Shop:\nCatering Facilities Required?: Yes\nLift Access?: No\nSpecial Requirements Insert Here:\n By Booking This Appointment\, I Agree To The Terms & Conditions:\nNeed to make changes to this event? \nHome
URL:https://www.malpasvillagehall.com/event/martin-schofield-modern-hall-4hr-private-booking-50/
CATEGORIES:Private Bookings
END:VEVENT
BEGIN:VEVENT
DTSTART;TZID=Europe/London:20251107T190000
DTEND;TZID=Europe/London:20251107T223000
DTSTAMP:20260425T162504
CREATED:20251010T104355Z
LAST-MODIFIED:20251010T104355Z
UID:135521-1762542000-1762554600@www.malpasvillagehall.com
SUMMARY:Games Evening for everyone - Both Halls
DESCRIPTION:Games Evening for everyone – Both Halls
URL:https://www.malpasvillagehall.com/event/games-evening-for-everyone-both-halls-2/
LOCATION:Modern Hall\, Malpas Village Hall
END:VEVENT
BEGIN:VEVENT
DTSTART;TZID=Europe/London:20251111T100000
DTEND;TZID=Europe/London:20251111T123000
DTSTAMP:20260425T162504
CREATED:20251010T104113Z
LAST-MODIFIED:20251010T104113Z
UID:135519-1762855200-1762864200@www.malpasvillagehall.com
SUMMARY:Coffee morning for the community
DESCRIPTION:Coffee morning for the community
URL:https://www.malpasvillagehall.com/event/coffee-morning-for-the-community-4/
LOCATION:Modern Hall\, Malpas Village Hall
END:VEVENT
BEGIN:VEVENT
DTSTART;TZID=Europe/London:20251117T190000
DTEND;TZID=Europe/London:20251117T230000
DTSTAMP:20260425T162504
CREATED:20251008T002257Z
LAST-MODIFIED:20251117T175912Z
UID:135260-1763406000-1763420400@www.malpasvillagehall.com
SUMMARY:Martin Schofield - Modern Hall 4hr Private Booking
DESCRIPTION:Name: Martin Schofield\nEmail: merlin824@btinternet.com\nEvent Or Organisation Name: Truro Model Builders\nEvent Type: Club (tea and coffee only)\nEvent Description: Model making\nAttendance: Up to ten adults\nConsumption Of Alcohol?: No\nIf YES\, Please Specify Whether Consuming (not Selling) Own Drinks Or Requiring Bar Facility From On-line Shop:\nCatering Facilities Required?: Yes\nLift Access?: No\nSpecial Requirements Insert Here:\n By Booking This Appointment\, I Agree To The Terms & Conditions:\nNeed to make changes to this event? \nHome
URL:https://www.malpasvillagehall.com/event/martin-schofield-modern-hall-4hr-private-booking-51/
CATEGORIES:Private Bookings
END:VEVENT
BEGIN:VEVENT
DTSTART;TZID=Europe/London:20251122T100000
DTEND;TZID=Europe/London:20251122T143000
DTSTAMP:20260425T162504
CREATED:20251010T104429Z
LAST-MODIFIED:20251010T104429Z
UID:135526-1763805600-1763821800@www.malpasvillagehall.com
SUMMARY:Malpas Christmas Fair with craft tables
DESCRIPTION:Malpas Christmas Fair with craft tables
URL:https://www.malpasvillagehall.com/event/malpas-christmas-fair-with-craft-tables/
LOCATION:Modern Hall\, Malpas Village Hall
END:VEVENT
BEGIN:VEVENT
DTSTART;TZID=Europe/London:20251124T190000
DTEND;TZID=Europe/London:20251124T230000
DTSTAMP:20260425T162504
CREATED:20251008T002257Z
LAST-MODIFIED:20251124T191200Z
UID:135261-1764010800-1764025200@www.malpasvillagehall.com
SUMMARY:Martin Schofield - Modern Hall 4hr Private Booking
DESCRIPTION:Name: Martin Schofield\nEmail: merlin824@btinternet.com\nEvent Or Organisation Name: Truro Model Builders\nEvent Type: Club (tea and coffee only)\nEvent Description: Model making\nAttendance: Up to ten adults\nConsumption Of Alcohol?: No\nIf YES\, Please Specify Whether Consuming (not Selling) Own Drinks Or Requiring Bar Facility From On-line Shop:\nCatering Facilities Required?: Yes\nLift Access?: No\nSpecial Requirements Insert Here:\n By Booking This Appointment\, I Agree To The Terms & Conditions:\nNeed to make changes to this event? \nHome
URL:https://www.malpasvillagehall.com/event/martin-schofield-modern-hall-4hr-private-booking-79/
CATEGORIES:Private Bookings
END:VEVENT
END:VCALENDAR