BEGIN:VCALENDAR
VERSION:2.0
PRODID:-//Malpas Village Hall - ECPv5.12.0//NONSGML v1.0//EN
CALSCALE:GREGORIAN
METHOD:PUBLISH
X-WR-CALNAME:Malpas Village Hall
X-ORIGINAL-URL:https://www.malpasvillagehall.com
X-WR-CALDESC:Events for Malpas Village Hall
REFRESH-INTERVAL;VALUE=DURATION:PT1H
X-Robots-Tag:noindex
X-PUBLISHED-TTL:PT1H
BEGIN:VTIMEZONE
TZID:Europe/London
BEGIN:DAYLIGHT
TZOFFSETFROM:+0000
TZOFFSETTO:+0100
TZNAME:BST
DTSTART:20250330T010000
END:DAYLIGHT
BEGIN:STANDARD
TZOFFSETFROM:+0100
TZOFFSETTO:+0000
TZNAME:GMT
DTSTART:20251026T010000
END:STANDARD
END:VTIMEZONE
BEGIN:VEVENT
DTSTART;TZID=Europe/London:20251201T190000
DTEND;TZID=Europe/London:20251201T230000
DTSTAMP:20260425T145316
CREATED:20251008T002257Z
LAST-MODIFIED:20251201T193935Z
UID:135262-1764615600-1764630000@www.malpasvillagehall.com
SUMMARY:Martin Schofield - Modern Hall 4hr Private Booking
DESCRIPTION:Name: Martin Schofield\nEmail: merlin824@btinternet.com\nEvent Or Organisation Name: Truro Model Builders\nEvent Type: Club (tea and coffee only)\nEvent Description: Model making\nAttendance: Up to ten adults\nConsumption Of Alcohol?: No\nIf YES\, Please Specify Whether Consuming (not Selling) Own Drinks Or Requiring Bar Facility From On-line Shop:\nCatering Facilities Required?: Yes\nLift Access?: No\nSpecial Requirements Insert Here:\n By Booking This Appointment\, I Agree To The Terms & Conditions:\nNeed to make changes to this event? \nHome
URL:https://www.malpasvillagehall.com/event/martin-schofield-modern-hall-4hr-private-booking-80/
CATEGORIES:Private Bookings
END:VEVENT
BEGIN:VEVENT
DTSTART;TZID=Europe/London:20251208T190000
DTEND;TZID=Europe/London:20251208T230000
DTSTAMP:20260425T145317
CREATED:20251008T002310Z
LAST-MODIFIED:20251208T201132Z
UID:135263-1765220400-1765234800@www.malpasvillagehall.com
SUMMARY:Martin Schofield - Modern Hall 4hr Private Booking
DESCRIPTION:Name: Martin Schofield\nEmail: merlin824@btinternet.com\nEvent Or Organisation Name: Truro Model Builders\nEvent Type: Club (tea and coffee only)\nEvent Description: Model making\nAttendance: Up to ten adults\nConsumption Of Alcohol?: No\nIf YES\, Please Specify Whether Consuming (not Selling) Own Drinks Or Requiring Bar Facility From On-line Shop:\nCatering Facilities Required?: Yes\nLift Access?: No\nSpecial Requirements Insert Here:\n By Booking This Appointment\, I Agree To The Terms & Conditions:\nNeed to make changes to this event? \nHome
URL:https://www.malpasvillagehall.com/event/martin-schofield-modern-hall-4hr-private-booking-81/
CATEGORIES:Private Bookings
END:VEVENT
BEGIN:VEVENT
DTSTART;TZID=Europe/London:20251212T090000
DTEND;TZID=Europe/London:20251212T220000
DTSTAMP:20260425T145317
CREATED:20250716T114242Z
LAST-MODIFIED:20251212T195513Z
UID:126723-1765530000-1765576800@www.malpasvillagehall.com
SUMMARY:Jodie Apps - Both Halls Day Party Booking
DESCRIPTION:Name: Jodie Apps\nEmail: jodie.apps@hivebusiness.co.uk\nEvent Or Organisation Name: Hive Business – Christmas Party\nEvent Type: Christmas Party\nEvent Description: A small gathering for our work Christmas Party\, same to what we did last year. We will not be using the kitchen to cook in\, but will use the fridge and need glasses\, etc. We will be organising for a catering company to come and supply food\, but it will be cooked and prepared off-site.\nAttendance: Max 20\nConsumption Of Alcohol: Yes\nIf YES\, Please Specify Whether Consuming (not Selling) Own Drinks Or Requiring Bar Facility From On-line Shop: We will provide our own drinks\, but will not be fore sale.\nCatering Facilities Required?: No\nLift Access?: No\nSpecial Requirements Click Here:\n  By Booking This Appointment\, I Agree To The Terms & Conditions:\nNeed to make changes to this event? \nHome
URL:https://www.malpasvillagehall.com/event/jodie-apps-both-halls-day-party-booking/
CATEGORIES:Private Bookings
END:VEVENT
BEGIN:VEVENT
DTSTART;TZID=Europe/London:20251213T140000
DTEND;TZID=Europe/London:20251213T180000
DTSTAMP:20260425T145317
CREATED:20251010T104241Z
LAST-MODIFIED:20251010T104241Z
UID:135534-1765634400-1765648800@www.malpasvillagehall.com
SUMMARY:Sharon wreath making PM
DESCRIPTION:Sharon wreath making PM\nPlease book your slot with Sharon Parker. See the poster for details
URL:https://www.malpasvillagehall.com/event/sharon-wreath-making-pm/
LOCATION:Modern Hall\, Malpas Village Hall
END:VEVENT
BEGIN:VEVENT
DTSTART;TZID=Europe/London:20251214T180000
DTEND;TZID=Europe/London:20251214T203000
DTSTAMP:20260425T145317
CREATED:20251010T104210Z
LAST-MODIFIED:20251010T104210Z
UID:135536-1765735200-1765744200@www.malpasvillagehall.com
SUMMARY:Carol Singing - all welcome
DESCRIPTION:Carol singing around the village\, then back to the hall for drinks and a mince pie
URL:https://www.malpasvillagehall.com/event/carol-singing-all-welcome/
LOCATION:Modern Hall\, Malpas Village Hall
END:VEVENT
BEGIN:VEVENT
DTSTART;TZID=Europe/London:20251224T100000
DTEND;TZID=Europe/London:20251224T123000
DTSTAMP:20260425T145317
CREATED:20251010T104140Z
LAST-MODIFIED:20251010T104140Z
UID:135538-1766570400-1766579400@www.malpasvillagehall.com
SUMMARY:Bacon Butties & Irish Coffee
DESCRIPTION:Bacon Butties & Irish Coffee – open to all\nThe best social event of the year – do not miss it !!
URL:https://www.malpasvillagehall.com/event/bacon-butties-irish-coffee/
LOCATION:Modern Hall\, Malpas Village Hall
END:VEVENT
END:VCALENDAR