BEGIN:VCALENDAR
VERSION:2.0
PRODID:-//Malpas Village Hall - ECPv5.12.0//NONSGML v1.0//EN
CALSCALE:GREGORIAN
METHOD:PUBLISH
X-WR-CALNAME:Malpas Village Hall
X-ORIGINAL-URL:https://www.malpasvillagehall.com
X-WR-CALDESC:Events for Malpas Village Hall
REFRESH-INTERVAL;VALUE=DURATION:PT1H
X-Robots-Tag:noindex
X-PUBLISHED-TTL:PT1H
BEGIN:VTIMEZONE
TZID:Europe/London
BEGIN:DAYLIGHT
TZOFFSETFROM:+0000
TZOFFSETTO:+0100
TZNAME:BST
DTSTART:20260329T010000
END:DAYLIGHT
BEGIN:STANDARD
TZOFFSETFROM:+0100
TZOFFSETTO:+0000
TZNAME:GMT
DTSTART:20261025T010000
END:STANDARD
END:VTIMEZONE
BEGIN:VEVENT
DTSTART;TZID=Europe/London:20260104T140000
DTEND;TZID=Europe/London:20260104T180000
DTSTAMP:20260425T132242
CREATED:20251124T001050Z
LAST-MODIFIED:20251229T074215Z
UID:140023-1767535200-1767549600@www.malpasvillagehall.com
SUMMARY:Bec Applebee - Modern Hall 4hr Private Booking Kitchen Access
DESCRIPTION:Name: Bec Applebee\nEmail: becapple@hotmail.com\nEvent Or Organisation Name: Tanek\nEvent Type: Music rehearsal\nEvent Description: Music rehearsal\nAttendance: 9\nConsumption Of Alcohol?: No\nIf YES\, Please Specify Whether Consuming (not Selling) Own Drinks Or Requiring Bar Facility From On-line Shop:\nCatering Facilities Required?: Yes\nLift Access?: No\nSpecial Requirements Insert Here: Is there any possibility we could hire the hall from 1 pm – 5 pm because of people’s availability on that day ?\n By Booking This Appointment\, I Agree To The Terms & Conditions:\nNeed to make changes to this event? \nHome
URL:https://www.malpasvillagehall.com/event/bec-applebee-modern-hall-4hr-private-booking-kitchen-access/
CATEGORIES:Private Bookings
END:VEVENT
BEGIN:VEVENT
DTSTART;TZID=Europe/London:20260105T190000
DTEND;TZID=Europe/London:20260105T230000
DTSTAMP:20260425T132242
CREATED:20251220T164339Z
LAST-MODIFIED:20251229T074215Z
UID:142719-1767639600-1767654000@www.malpasvillagehall.com
SUMMARY:Martin Schofield - Modern Hall 4hr Private Booking
DESCRIPTION:Name: Martin Schofield\nEmail: merlin824@btinternet.com\nEvent Or Organisation Name: Truro Model Builders\nEvent Type: Club (tea and coffee only)\nEvent Description: Model making\nAttendance: Up to ten adults\nConsumption Of Alcohol?: No\nIf YES\, Please Specify Whether Consuming (not Selling) Own Drinks Or Requiring Bar Facility From On-line Shop:\nCatering Facilities Required?: Yes\nLift Access?: No\nSpecial Requirements Insert Here:\n By Booking This Appointment\, I Agree To The Terms & Conditions:\nNeed to make changes to this event? \nHome
URL:https://www.malpasvillagehall.com/event/martin-schofield-modern-hall-4hr-private-booking-52/
CATEGORIES:Private Bookings
END:VEVENT
BEGIN:VEVENT
DTSTART;TZID=Europe/London:20260112T190000
DTEND;TZID=Europe/London:20260112T230000
DTSTAMP:20260425T132242
CREATED:20251220T164340Z
LAST-MODIFIED:20251229T074215Z
UID:142720-1768244400-1768258800@www.malpasvillagehall.com
SUMMARY:Martin Schofield - Modern Hall 4hr Private Booking
DESCRIPTION:Name: Martin Schofield\nEmail: merlin824@btinternet.com\nEvent Or Organisation Name: Truro Model Builders\nEvent Type: Club (tea and coffee only)\nEvent Description: Model making\nAttendance: Up to ten adults\nConsumption Of Alcohol?: No\nIf YES\, Please Specify Whether Consuming (not Selling) Own Drinks Or Requiring Bar Facility From On-line Shop:\nCatering Facilities Required?: Yes\nLift Access?: No\nSpecial Requirements Insert Here:\n By Booking This Appointment\, I Agree To The Terms & Conditions:\nNeed to make changes to this event? \nHome
URL:https://www.malpasvillagehall.com/event/martin-schofield-modern-hall-4hr-private-booking-53/
CATEGORIES:Private Bookings
END:VEVENT
BEGIN:VEVENT
DTSTART;TZID=Europe/London:20260119T190000
DTEND;TZID=Europe/London:20260119T230000
DTSTAMP:20260425T132242
CREATED:20251220T164340Z
LAST-MODIFIED:20251229T074215Z
UID:142721-1768849200-1768863600@www.malpasvillagehall.com
SUMMARY:Martin Schofield - Modern Hall 4hr Private Booking
DESCRIPTION:Name: Martin Schofield\nEmail: merlin824@btinternet.com\nEvent Or Organisation Name: Truro Model Builders\nEvent Type: Club (tea and coffee only)\nEvent Description: Model making\nAttendance: Up to ten adults\nConsumption Of Alcohol?: No\nIf YES\, Please Specify Whether Consuming (not Selling) Own Drinks Or Requiring Bar Facility From On-line Shop:\nCatering Facilities Required?: Yes\nLift Access?: No\nSpecial Requirements Insert Here:\n By Booking This Appointment\, I Agree To The Terms & Conditions:\nNeed to make changes to this event? \nHome
URL:https://www.malpasvillagehall.com/event/martin-schofield-modern-hall-4hr-private-booking-54/
CATEGORIES:Private Bookings
END:VEVENT
BEGIN:VEVENT
DTSTART;TZID=Europe/London:20260123T193000
DTEND;TZID=Europe/London:20260123T223000
DTSTAMP:20260425T132242
CREATED:20251024T111309Z
LAST-MODIFIED:20251024T111309Z
UID:136961-1769196600-1769207400@www.malpasvillagehall.com
SUMMARY:Martin’s MALPAS “MAYDAY”
DESCRIPTION:“Pie in the Sky” \nJoin me in the village hall on 23 rd January 2026 at 7.30 pm for an informal talk\, lots of photos\nwith flying tales\, a slice of home-made pie\, and a drink from the bar. \nFree admission with proceeds to:\nMalpas Village Hall Trust.
URL:https://www.malpasvillagehall.com/event/martins-malpas-mayday/
LOCATION:Modern Hall\, Malpas Village Hall
END:VEVENT
BEGIN:VEVENT
DTSTART;TZID=Europe/London:20260126T190000
DTEND;TZID=Europe/London:20260126T230000
DTSTAMP:20260425T132242
CREATED:20251220T164340Z
LAST-MODIFIED:20251229T074216Z
UID:142722-1769454000-1769468400@www.malpasvillagehall.com
SUMMARY:Martin Schofield - Modern Hall 4hr Private Booking
DESCRIPTION:Name: Martin Schofield\nEmail: merlin824@btinternet.com\nEvent Or Organisation Name: Truro Model Builders\nEvent Type: Club (tea and coffee only)\nEvent Description: Model making\nAttendance: Up to ten adults\nConsumption Of Alcohol?: No\nIf YES\, Please Specify Whether Consuming (not Selling) Own Drinks Or Requiring Bar Facility From On-line Shop:\nCatering Facilities Required?: Yes\nLift Access?: No\nSpecial Requirements Insert Here:\n By Booking This Appointment\, I Agree To The Terms & Conditions:\nNeed to make changes to this event? \nHome
URL:https://www.malpasvillagehall.com/event/martin-schofield-modern-hall-4hr-private-booking-55/
CATEGORIES:Private Bookings
END:VEVENT
BEGIN:VEVENT
DTSTART;TZID=Europe/London:20260131T140000
DTEND;TZID=Europe/London:20260131T180000
DTSTAMP:20260425T132242
CREATED:20251119T124355Z
LAST-MODIFIED:20251229T074216Z
UID:139585-1769868000-1769882400@www.malpasvillagehall.com
SUMMARY:Charlotte Dixon - Modern Hall 4hr Party Booking Kitchen Access
DESCRIPTION:Name: Charlotte Dixon\nEmail: charlotte_dixon@btinternet.com\nEvent Or Organisation Name: Joyce’s 90th Birthday\nEvent Type: Birthday\nEvent Description: We are planning a 90th Birthday for my Mum\, Joyce.  It is not a surprise!  She would like a cheese & wine-type event which we will cater for with the added teas/coffees.  As I don’t know the space\, I don’t know if it’s better laid out with occasional chairs or tables & chairs but we wanted a relaxed event.  We have all ages\, with c 20 family and will be inviting neighbours/carers and friends to attend. We would go in and quickly set up at 2 for a 2.30 start and would have a finish time by 5.30.   Please would you advise if there is any parking provision.\nAttendance: 5 children between 5-18  rest would be adults.  Total estimated between 25 and 50.\nConsumption Of Alcohol?: Yes\nIf YES\, Please Specify Whether Consuming (not Selling) Own Drinks Or Requiring Bar Facility From On-line Shop: Will provide our own wine\, not selling.\nCatering Facilities Required?: Yes\nLift Access?: No\nSpecial Requirements Insert Here:\n By Booking This Appointment\, I Agree To The Terms & Conditions:\nNeed to make changes to this event? \nHome
URL:https://www.malpasvillagehall.com/event/charlotte-dixon-modern-hall-4hr-party-booking-kitchen-access/
CATEGORIES:Private Bookings
END:VEVENT
END:VCALENDAR