BEGIN:VCALENDAR
VERSION:2.0
PRODID:-//Malpas Village Hall - ECPv5.12.0//NONSGML v1.0//EN
CALSCALE:GREGORIAN
METHOD:PUBLISH
X-WR-CALNAME:Malpas Village Hall
X-ORIGINAL-URL:https://www.malpasvillagehall.com
X-WR-CALDESC:Events for Malpas Village Hall
REFRESH-INTERVAL;VALUE=DURATION:PT1H
X-Robots-Tag:noindex
X-PUBLISHED-TTL:PT1H
BEGIN:VTIMEZONE
TZID:Europe/London
BEGIN:DAYLIGHT
TZOFFSETFROM:+0000
TZOFFSETTO:+0100
TZNAME:BST
DTSTART:20240331T010000
END:DAYLIGHT
BEGIN:STANDARD
TZOFFSETFROM:+0100
TZOFFSETTO:+0000
TZNAME:GMT
DTSTART:20241027T010000
END:STANDARD
BEGIN:DAYLIGHT
TZOFFSETFROM:+0000
TZOFFSETTO:+0100
TZNAME:BST
DTSTART:20250330T010000
END:DAYLIGHT
BEGIN:STANDARD
TZOFFSETFROM:+0100
TZOFFSETTO:+0000
TZNAME:GMT
DTSTART:20251026T010000
END:STANDARD
END:VTIMEZONE
BEGIN:VEVENT
DTSTART;TZID=Europe/London:20250712T090000
DTEND;TZID=Europe/London:20250712T230000
DTSTAMP:20260423T204418
CREATED:20250113T092148Z
LAST-MODIFIED:20250113T092428Z
UID:108591-1752310800-1752361200@www.malpasvillagehall.com
SUMMARY:All Day Wedding Celebration
DESCRIPTION:All-Day Wedding Celebration – Both Halls and Kitchen \nPrivate Gathering – Invoice booking  
URL:https://www.malpasvillagehall.com/event/wedding-celebration/
LOCATION:Modern Hall\, Malpas Village Hall
CATEGORIES:Private Bookings
ATTACH;FMTTYPE=image/jpeg:https://www.malpasvillagehall.com/wp-content/uploads/2022/10/Dolphin-Bar-W18.jpg
END:VEVENT
BEGIN:VEVENT
DTSTART;TZID=Europe/London:20250704T190000
DTEND;TZID=Europe/London:20250704T220000
DTSTAMP:20260423T204418
CREATED:20250320T103417Z
LAST-MODIFIED:20250320T103417Z
UID:114543-1751655600-1751666400@www.malpasvillagehall.com
SUMMARY:Games Evening for everyone - Both Halls 7.00pm to 10.00pm
DESCRIPTION:Games Evening for everyone.\nCome along and enjoy a social chit-chat\, tea\, Coffee\, Dolphin Bar and tabletop games.\nWe have a selection of games that you can play – some old favourites & new games to try out. \nIf you have your own particular tabletop game you would like to share with others\, we encourage you to bring it along and have some fun!\nThere is no pressure to play at all – come along for a light-hearted evening\, drink and chat.\nFamilies are also welcome\, we have two table tennis tables with all the equipment.\nHope to see you soon
URL:https://www.malpasvillagehall.com/event/games-evening-for-everyone-both-halls-7-00pm-to-10-00pm-2/
LOCATION:Modern Hall\, Malpas Village Hall
ATTACH;FMTTYPE=image/jpeg:https://www.malpasvillagehall.com/wp-content/uploads/2024/09/Game-night-01-em.jpg
END:VEVENT
BEGIN:VEVENT
DTSTART;TZID=Europe/London:20250624T100000
DTEND;TZID=Europe/London:20250624T120000
DTSTAMP:20260423T204418
CREATED:20250322T082529Z
LAST-MODIFIED:20250322T082529Z
UID:114568-1750759200-1750766400@www.malpasvillagehall.com
SUMMARY:MVH Trust Meeting
DESCRIPTION:MVH Trust Committee Meeting 10.00am
URL:https://www.malpasvillagehall.com/event/mvh-trust-meeting/
LOCATION:Modern Hall\, Malpas Village Hall
ATTACH;FMTTYPE=image/jpeg:https://www.malpasvillagehall.com/wp-content/uploads/2024/03/MVHT-sq-logo.jpg
END:VEVENT
BEGIN:VEVENT
DTSTART;TZID=Europe/London:20250621T140000
DTEND;TZID=Europe/London:20250621T163000
DTSTAMP:20260423T204418
CREATED:20250320T104023Z
LAST-MODIFIED:20250320T151454Z
UID:114545-1750514400-1750523400@www.malpasvillagehall.com
SUMMARY:MID SUMMER CREAM TEA - Join us at the hall for an afternoon of Cornish Cream Teas  2.00 pm to 4.30 pm
DESCRIPTION:Join us at the hall for an afternoon of Cornish Cream Teas
URL:https://www.malpasvillagehall.com/event/mid-summer-cream-tea-join-us-at-the-hall-for-an-afternoon-of-cornish-cream-teas-2-00-pm-to-4-00-pm/
LOCATION:Modern Hall\, Malpas Village Hall
ATTACH;FMTTYPE=image/jpeg:https://www.malpasvillagehall.com/wp-content/uploads/2025/03/Web-image-cream-tea-F01.jpg
END:VEVENT
BEGIN:VEVENT
DTSTART;TZID=Europe/London:20250606T190000
DTEND;TZID=Europe/London:20250606T220000
DTSTAMP:20260423T204418
CREATED:20250320T103257Z
LAST-MODIFIED:20250320T103257Z
UID:114542-1749236400-1749247200@www.malpasvillagehall.com
SUMMARY:Games Evening for everyone - Both Halls 7.00pm to 10.00pm
DESCRIPTION:Games Evening for everyone.\nCome along and enjoy a social chit-chat\, tea\, Coffee\, Dolphin Bar and tabletop games.\nWe have a selection of games that you can play – some old favourites & new games to try out. \nIf you have your own particular tabletop game you would like to share with others\, we encourage you to bring it along and have some fun!\nThere is no pressure to play at all – come along for a light-hearted evening\, drink and chat.\nFamilies are also welcome\, we have two table tennis tables with all the equipment.\nHope to see you soon
URL:https://www.malpasvillagehall.com/event/games-evening-for-everyone-both-halls-7-00pm-to-10-00pm/
LOCATION:Modern Hall\, Malpas Village Hall
ATTACH;FMTTYPE=image/jpeg:https://www.malpasvillagehall.com/wp-content/uploads/2024/09/Game-night-01-em.jpg
END:VEVENT
BEGIN:VEVENT
DTSTART;TZID=Europe/London:20250502T190000
DTEND;TZID=Europe/London:20250502T220000
DTSTAMP:20260423T204418
CREATED:20250320T103036Z
LAST-MODIFIED:20250320T103036Z
UID:114541-1746212400-1746223200@www.malpasvillagehall.com
SUMMARY:Games Evening for everyone - Both Halls 7.00 pm to 10.00pm
DESCRIPTION:Games Evening for everyone.\nCome along and enjoy a social chit-chat\, tea\, Coffee\, Dolphin Bar and tabletop games.\nWe have a selection of games that you can play – some old favourites & new games to try out. \nIf you have your own particular tabletop game you would like to share with others\, we encourage you to bring it along and have some fun!\nThere is no pressure to play at all – come along for a light-hearted evening\, drink and chat.\nFamilies are also welcome\, we have two table tennis tables with all the equipment.\nHope to see you soon
URL:https://www.malpasvillagehall.com/event/games-evening-for-everyone-both-halls-7-00-pm-to-10-00pm/
LOCATION:Modern Hall\, Malpas Village Hall
ATTACH;FMTTYPE=image/jpeg:https://www.malpasvillagehall.com/wp-content/uploads/2024/09/Game-night-01-em.jpg
END:VEVENT
BEGIN:VEVENT
DTSTART;TZID=Europe/London:20250501T070000
DTEND;TZID=Europe/London:20250501T220000
DTSTAMP:20260423T204418
CREATED:20241018T100601Z
LAST-MODIFIED:20241018T100601Z
UID:99727-1746082800-1746136800@www.malpasvillagehall.com
SUMMARY:Polling Station All Day Booking
DESCRIPTION:The polling station will be open all Day 7.00 am to 10.00 pm \nNo other events will take place  
URL:https://www.malpasvillagehall.com/event/polling-station-all-day-booking-2/
LOCATION:Modern Hall\, Malpas Village Hall
CATEGORIES:Community
ATTACH;FMTTYPE=image/jpeg:https://www.malpasvillagehall.com/wp-content/uploads/2024/04/Polling-station-F01em.jpg
END:VEVENT
BEGIN:VEVENT
DTSTART;TZID=Europe/London:20240726T093000
DTEND;TZID=Europe/London:20240726T113000
DTSTAMP:20260423T204418
CREATED:20240606T100616Z
LAST-MODIFIED:20240606T100616Z
UID:85984-1721986200-1721993400@www.malpasvillagehall.com
SUMMARY:Pilates Classes
DESCRIPTION:Two Classes 0930 and 1030. 0930 is a beginner or gentle class. This is a great class for anyone wanting to start or continue their Pilates journey. In this class we play with basic Pilates principles and mix it in a little fun on the way. This is a good class for those returning from injury\, surgery or postnatal (If signed off by your GP). You must be able to walk up the stairs\, sit and stand unaided. Please bring your own mat. 1030 is a intermediate or flow class. This is a great class for anyone wanting to continue their Pilates journey and add a little challenge to their practice. In this class we continue our understanding of Pilates but add more flow between exercises which increases your strength and your stamina! It is recommended that you should already have a basic level of fitness. This is a good class for those who understand the basic principles of Pilates and who understand the basic terminology. Please bring your own mat.  
URL:https://www.malpasvillagehall.com/event/pilates-classes/2024-07-26/
LOCATION:Modern Hall\, Malpas Village Hall
CATEGORIES:Exercise Class
ATTACH;FMTTYPE=image/jpeg:https://www.malpasvillagehall.com/wp-content/uploads/2024/05/IMG-20230929-WA0002.jpg
END:VEVENT
BEGIN:VEVENT
DTSTART;TZID=Europe/London:20240719T093000
DTEND;TZID=Europe/London:20240719T113000
DTSTAMP:20260423T204418
CREATED:20240606T100616Z
LAST-MODIFIED:20240606T100616Z
UID:85983-1721381400-1721388600@www.malpasvillagehall.com
SUMMARY:Pilates Classes
DESCRIPTION:Two Classes 0930 and 1030. 0930 is a beginner or gentle class. This is a great class for anyone wanting to start or continue their Pilates journey. In this class we play with basic Pilates principles and mix it in a little fun on the way. This is a good class for those returning from injury\, surgery or postnatal (If signed off by your GP). You must be able to walk up the stairs\, sit and stand unaided. Please bring your own mat. 1030 is a intermediate or flow class. This is a great class for anyone wanting to continue their Pilates journey and add a little challenge to their practice. In this class we continue our understanding of Pilates but add more flow between exercises which increases your strength and your stamina! It is recommended that you should already have a basic level of fitness. This is a good class for those who understand the basic principles of Pilates and who understand the basic terminology. Please bring your own mat.  
URL:https://www.malpasvillagehall.com/event/pilates-classes/2024-07-19/
LOCATION:Modern Hall\, Malpas Village Hall
CATEGORIES:Exercise Class
ATTACH;FMTTYPE=image/jpeg:https://www.malpasvillagehall.com/wp-content/uploads/2024/05/IMG-20230929-WA0002.jpg
END:VEVENT
BEGIN:VEVENT
DTSTART;TZID=Europe/London:20240712T093000
DTEND;TZID=Europe/London:20240712T113000
DTSTAMP:20260423T204418
CREATED:20240606T100616Z
LAST-MODIFIED:20240606T100616Z
UID:85982-1720776600-1720783800@www.malpasvillagehall.com
SUMMARY:Pilates Classes
DESCRIPTION:Two Classes 0930 and 1030. 0930 is a beginner or gentle class. This is a great class for anyone wanting to start or continue their Pilates journey. In this class we play with basic Pilates principles and mix it in a little fun on the way. This is a good class for those returning from injury\, surgery or postnatal (If signed off by your GP). You must be able to walk up the stairs\, sit and stand unaided. Please bring your own mat. 1030 is a intermediate or flow class. This is a great class for anyone wanting to continue their Pilates journey and add a little challenge to their practice. In this class we continue our understanding of Pilates but add more flow between exercises which increases your strength and your stamina! It is recommended that you should already have a basic level of fitness. This is a good class for those who understand the basic principles of Pilates and who understand the basic terminology. Please bring your own mat.  
URL:https://www.malpasvillagehall.com/event/pilates-classes/2024-07-12/
LOCATION:Modern Hall\, Malpas Village Hall
CATEGORIES:Exercise Class
ATTACH;FMTTYPE=image/jpeg:https://www.malpasvillagehall.com/wp-content/uploads/2024/05/IMG-20230929-WA0002.jpg
END:VEVENT
BEGIN:VEVENT
DTSTART;TZID=Europe/London:20240705T093000
DTEND;TZID=Europe/London:20240705T113000
DTSTAMP:20260423T204418
CREATED:20240606T100616Z
LAST-MODIFIED:20240606T100616Z
UID:85981-1720171800-1720179000@www.malpasvillagehall.com
SUMMARY:Pilates Classes
DESCRIPTION:Two Classes 0930 and 1030. 0930 is a beginner or gentle class. This is a great class for anyone wanting to start or continue their Pilates journey. In this class we play with basic Pilates principles and mix it in a little fun on the way. This is a good class for those returning from injury\, surgery or postnatal (If signed off by your GP). You must be able to walk up the stairs\, sit and stand unaided. Please bring your own mat. 1030 is a intermediate or flow class. This is a great class for anyone wanting to continue their Pilates journey and add a little challenge to their practice. In this class we continue our understanding of Pilates but add more flow between exercises which increases your strength and your stamina! It is recommended that you should already have a basic level of fitness. This is a good class for those who understand the basic principles of Pilates and who understand the basic terminology. Please bring your own mat.  
URL:https://www.malpasvillagehall.com/event/pilates-classes/2024-07-05/
LOCATION:Modern Hall\, Malpas Village Hall
CATEGORIES:Exercise Class
ATTACH;FMTTYPE=image/jpeg:https://www.malpasvillagehall.com/wp-content/uploads/2024/05/IMG-20230929-WA0002.jpg
END:VEVENT
BEGIN:VEVENT
DTSTART;TZID=Europe/London:20240628T093000
DTEND;TZID=Europe/London:20240628T113000
DTSTAMP:20260423T204418
CREATED:20240606T100616Z
LAST-MODIFIED:20240606T100616Z
UID:85980-1719567000-1719574200@www.malpasvillagehall.com
SUMMARY:Pilates Classes
DESCRIPTION:Two Classes 0930 and 1030. 0930 is a beginner or gentle class. This is a great class for anyone wanting to start or continue their Pilates journey. In this class we play with basic Pilates principles and mix it in a little fun on the way. This is a good class for those returning from injury\, surgery or postnatal (If signed off by your GP). You must be able to walk up the stairs\, sit and stand unaided. Please bring your own mat. 1030 is a intermediate or flow class. This is a great class for anyone wanting to continue their Pilates journey and add a little challenge to their practice. In this class we continue our understanding of Pilates but add more flow between exercises which increases your strength and your stamina! It is recommended that you should already have a basic level of fitness. This is a good class for those who understand the basic principles of Pilates and who understand the basic terminology. Please bring your own mat.  
URL:https://www.malpasvillagehall.com/event/pilates-classes/2024-06-28/
LOCATION:Modern Hall\, Malpas Village Hall
CATEGORIES:Exercise Class
ATTACH;FMTTYPE=image/jpeg:https://www.malpasvillagehall.com/wp-content/uploads/2024/05/IMG-20230929-WA0002.jpg
END:VEVENT
BEGIN:VEVENT
DTSTART;TZID=Europe/London:20240621T093000
DTEND;TZID=Europe/London:20240621T113000
DTSTAMP:20260423T204418
CREATED:20240606T100616Z
LAST-MODIFIED:20240606T184505Z
UID:85030-1718962200-1718969400@www.malpasvillagehall.com
SUMMARY:Pilates Classes
DESCRIPTION:Two Classes 0930 and 1030. 0930 is a beginner or gentle class. This is a great class for anyone wanting to start or continue their Pilates journey. In this class we play with basic Pilates principles and mix it in a little fun on the way. This is a good class for those returning from injury\, surgery or postnatal (If signed off by your GP). You must be able to walk up the stairs\, sit and stand unaided. Please bring your own mat. 1030 is a intermediate or flow class. This is a great class for anyone wanting to continue their Pilates journey and add a little challenge to their practice. In this class we continue our understanding of Pilates but add more flow between exercises which increases your strength and your stamina! It is recommended that you should already have a basic level of fitness. This is a good class for those who understand the basic principles of Pilates and who understand the basic terminology. Please bring your own mat.  
URL:https://www.malpasvillagehall.com/event/pilates-classes/2024-06-21/
LOCATION:Modern Hall\, Malpas Village Hall
CATEGORIES:Exercise Class
ATTACH;FMTTYPE=image/jpeg:https://www.malpasvillagehall.com/wp-content/uploads/2024/05/IMG-20230929-WA0002.jpg
END:VEVENT
END:VCALENDAR